BEGIN:VCALENDAR
VERSION:2.0
PRODID:icalendar-ruby
CALSCALE:GREGORIAN
METHOD:PUBLISH
BEGIN:VEVENT
DTSTAMP:20260420T112227Z
UID:17-1153845@livingfaithgirard.net
DTSTART:20261029T233000Z
DTEND:20261030T003000Z
CLASS:PUBLIC
CREATED:20260420T062132
DESCRIPTION:
LAST-MODIFIED:20260420T062132
LOCATION:Multipurpose Room
SUMMARY:Young Adult Bible Study
URL;VALUE=URI:https://lfcngirard.com/events/young-adult-bible-study/2026-10
 -29
END:VEVENT
END:VCALENDAR
