BEGIN:VCALENDAR
VERSION:2.0
PRODID:icalendar-ruby
CALSCALE:GREGORIAN
METHOD:PUBLISH
BEGIN:VEVENT
DTSTAMP:20260420T093725Z
UID:17-1153083@livingfaithgirard.net
DTSTART:20261022T233000Z
DTEND:20261023T003000Z
CLASS:PUBLIC
CREATED:20260420T012145
DESCRIPTION:
LAST-MODIFIED:20260420T012145
LOCATION:Multipurpose Room
SUMMARY:Young Adult Bible Study
URL;VALUE=URI:https://lfcngirard.com/events/young-adult-bible-study/2026-10
 -22
END:VEVENT
END:VCALENDAR
