BEGIN:VCALENDAR
VERSION:2.0
PRODID:icalendar-ruby
CALSCALE:GREGORIAN
METHOD:PUBLISH
BEGIN:VEVENT
DTSTAMP:20260420T051043Z
UID:17-1152318@livingfaithgirard.net
DTSTART:20261001T233000Z
DTEND:20261002T003000Z
CLASS:PUBLIC
CREATED:20260419T214452
DESCRIPTION:
LAST-MODIFIED:20260419T214452
LOCATION:Multipurpose Room
SUMMARY:Young Adult Bible Study
URL;VALUE=URI:https://lfcngirard.com/events/young-adult-bible-study/2026-10
 -01
END:VEVENT
END:VCALENDAR
