BEGIN:VCALENDAR
VERSION:2.0
PRODID:icalendar-ruby
CALSCALE:GREGORIAN
METHOD:PUBLISH
BEGIN:VEVENT
DTSTAMP:20260419T232647Z
UID:17-1151554@livingfaithgirard.net
DTSTART:20260910T233000Z
DTEND:20260911T003000Z
CLASS:PUBLIC
CREATED:20260419T180552
DESCRIPTION:
LAST-MODIFIED:20260419T180552
LOCATION:Multipurpose Room
SUMMARY:Young Adult Bible Study
URL;VALUE=URI:https://lfcngirard.com/events/young-adult-bible-study/2026-09
 -10
END:VEVENT
END:VCALENDAR
