BEGIN:VCALENDAR
VERSION:2.0
PRODID:icalendar-ruby
CALSCALE:GREGORIAN
METHOD:PUBLISH
BEGIN:VEVENT
DTSTAMP:20260419T200730Z
UID:17-1150791@livingfaithgirard.net
DTSTART:20260827T233000Z
DTEND:20260828T003000Z
CLASS:PUBLIC
CREATED:20260419T142259
DESCRIPTION:
LAST-MODIFIED:20260419T142259
LOCATION:Multipurpose Room
SUMMARY:Young Adult Bible Study
URL;VALUE=URI:https://lfcngirard.com/events/young-adult-bible-study/2026-08
 -27
END:VEVENT
END:VCALENDAR
