BEGIN:VCALENDAR
VERSION:2.0
PRODID:icalendar-ruby
CALSCALE:GREGORIAN
METHOD:PUBLISH
BEGIN:VEVENT
DTSTAMP:20260419T182354Z
UID:17-1150029@livingfaithgirard.net
DTSTART:20260820T233000Z
DTEND:20260821T003000Z
CLASS:PUBLIC
CREATED:20260419T104038
DESCRIPTION:
LAST-MODIFIED:20260419T104038
LOCATION:Multipurpose Room
SUMMARY:Young Adult Bible Study
URL;VALUE=URI:https://lfcngirard.com/events/young-adult-bible-study/2026-08
 -20
END:VEVENT
END:VCALENDAR
