BEGIN:VCALENDAR
VERSION:2.0
PRODID:icalendar-ruby
CALSCALE:GREGORIAN
METHOD:PUBLISH
BEGIN:VEVENT
DTSTAMP:20260419T150038Z
UID:17-1149268@livingfaithgirard.net
DTSTART:20260806T233000Z
DTEND:20260807T003000Z
CLASS:PUBLIC
CREATED:20260419T065820
DESCRIPTION:
LAST-MODIFIED:20260419T065820
LOCATION:Multipurpose Room
SUMMARY:Young Adult Bible Study
URL;VALUE=URI:https://lfcngirard.com/events/young-adult-bible-study/2026-08
 -06
END:VEVENT
END:VCALENDAR
