BEGIN:VCALENDAR
VERSION:2.0
PRODID:icalendar-ruby
CALSCALE:GREGORIAN
METHOD:PUBLISH
BEGIN:VEVENT
DTSTAMP:20260422T234828Z
UID:17-1166015@livingfaithgirard.net
DTSTART:20260716T233000Z
DTEND:20260717T003000Z
CLASS:PUBLIC
CREATED:20260422T181036
DESCRIPTION:
LAST-MODIFIED:20260422T181036
LOCATION:Multipurpose Room
SUMMARY:Young Adult Bible Study
URL;VALUE=URI:https://lfcngirard.com/events/young-adult-bible-study/2026-07
 -16
END:VEVENT
END:VCALENDAR
