BEGIN:VCALENDAR
VERSION:2.0
PRODID:icalendar-ruby
CALSCALE:GREGORIAN
METHOD:PUBLISH
BEGIN:VEVENT
DTSTAMP:20260422T215733Z
UID:17-1165252@livingfaithgirard.net
DTSTART:20260709T233000Z
DTEND:20260710T003000Z
CLASS:PUBLIC
CREATED:20260422T151743
DESCRIPTION:
LAST-MODIFIED:20260422T151743
LOCATION:Multipurpose Room
SUMMARY:Young Adult Bible Study
URL;VALUE=URI:https://lfcngirard.com/events/young-adult-bible-study/2026-07
 -09
END:VEVENT
END:VCALENDAR
