BEGIN:VCALENDAR
VERSION:2.0
PRODID:icalendar-ruby
CALSCALE:GREGORIAN
METHOD:PUBLISH
BEGIN:VEVENT
DTSTAMP:20260422T195907Z
UID:17-1164489@livingfaithgirard.net
DTSTART:20260702T233000Z
DTEND:20260703T003000Z
CLASS:PUBLIC
CREATED:20260422T122253
DESCRIPTION:
LAST-MODIFIED:20260422T122253
LOCATION:Multipurpose Room
SUMMARY:Young Adult Bible Study
URL;VALUE=URI:https://lfcngirard.com/events/young-adult-bible-study/2026-07
 -02
END:VEVENT
END:VCALENDAR
