BEGIN:VCALENDAR
VERSION:2.0
PRODID:icalendar-ruby
CALSCALE:GREGORIAN
METHOD:PUBLISH
BEGIN:VEVENT
DTSTAMP:20260422T163141Z
UID:17-1163725@livingfaithgirard.net
DTSTART:20260618T233000Z
DTEND:20260619T003000Z
CLASS:PUBLIC
CREATED:20260422T092721
DESCRIPTION:
LAST-MODIFIED:20260422T092721
LOCATION:Multipurpose Room
SUMMARY:Young Adult Bible Study
URL;VALUE=URI:https://lfcngirard.com/events/young-adult-bible-study/2026-06
 -18
END:VEVENT
END:VCALENDAR
