BEGIN:VCALENDAR
VERSION:2.0
PRODID:icalendar-ruby
CALSCALE:GREGORIAN
METHOD:PUBLISH
BEGIN:VEVENT
DTSTAMP:20260422T110424Z
UID:17-1162198@livingfaithgirard.net
DTSTART:20260528T233000Z
DTEND:20260529T003000Z
CLASS:PUBLIC
CREATED:20260421T193030
DESCRIPTION:
LAST-MODIFIED:20260421T193030
LOCATION:Multipurpose Room
SUMMARY:Young Adult Bible Study
URL;VALUE=URI:https://lfcngirard.com/events/young-adult-bible-study/2026-05
 -28
END:VEVENT
END:VCALENDAR
