BEGIN:VCALENDAR
VERSION:2.0
PRODID:icalendar-ruby
CALSCALE:GREGORIAN
METHOD:PUBLISH
BEGIN:VEVENT
DTSTAMP:20260419T225420Z
UID:17-1150774@livingfaithgirard.net
DTSTART:20260430T233000Z
DTEND:20260501T003000Z
CLASS:PUBLIC
CREATED:20260419T142259
DESCRIPTION:
LAST-MODIFIED:20260419T142259
LOCATION:Multipurpose Room
SUMMARY:Young Adult Bible Study
URL;VALUE=URI:https://lfcngirard.com/events/young-adult-bible-study/2026-04
 -30
END:VEVENT
END:VCALENDAR
