BEGIN:VCALENDAR
VERSION:2.0
PRODID:icalendar-ruby
CALSCALE:GREGORIAN
METHOD:PUBLISH
BEGIN:VEVENT
DTSTAMP:20260419T115455Z
UID:17-1148489@livingfaithgirard.net
DTSTART:20260319T233000Z
DTEND:20260320T003000Z
CLASS:PUBLIC
CREATED:20260419T013637
DESCRIPTION:
LAST-MODIFIED:20260419T013637
LOCATION:Multipurpose Room
SUMMARY:Young Adult Bible Study
URL;VALUE=URI:https://lfcngirard.com/events/young-adult-bible-study/2026-03
 -19
END:VEVENT
END:VCALENDAR
