BEGIN:VCALENDAR
VERSION:2.0
PRODID:icalendar-ruby
CALSCALE:GREGORIAN
METHOD:PUBLISH
BEGIN:VEVENT
DTSTAMP:20260420T142400Z
UID:6-1154450@livingfaithgirard.net
DTSTART:20261013T130000Z
DTEND:20261013T140000Z
CLASS:PUBLIC
CREATED:20260420T085715
DESCRIPTION:
LAST-MODIFIED:20260420T085715
LOCATION:Multi-purpose Room
SUMMARY:Men's Prayer Breakfast
URL;VALUE=URI:https://lfcngirard.com/events/mens-prayer-breakfast/2026-10-1
 3
END:VEVENT
END:VCALENDAR
