BEGIN:VCALENDAR
VERSION:2.0
PRODID:icalendar-ruby
CALSCALE:GREGORIAN
METHOD:PUBLISH
BEGIN:VEVENT
DTSTAMP:20260420T123119Z
UID:6-1153688@livingfaithgirard.net
DTSTART:20261006T130000Z
DTEND:20261006T140000Z
CLASS:PUBLIC
CREATED:20260420T062131
DESCRIPTION:
LAST-MODIFIED:20260420T062131
LOCATION:Multi-purpose Room
SUMMARY:Men's Prayer Breakfast
URL;VALUE=URI:https://lfcngirard.com/events/mens-prayer-breakfast/2026-10-0
 6
END:VEVENT
END:VCALENDAR
