BEGIN:VCALENDAR
VERSION:2.0
PRODID:icalendar-ruby
CALSCALE:GREGORIAN
METHOD:PUBLISH
BEGIN:VEVENT
DTSTAMP:20260422T110601Z
UID:20-1162334@livingfaithgirard.net
DTSTART:20261028T233000Z
DTEND:20261029T010000Z
CLASS:PUBLIC
CREATED:20260421T193031
DESCRIPTION:
LAST-MODIFIED:20260421T193031
LOCATION:Multi-purpose Room
SUMMARY:Living Faith Kids
URL;VALUE=URI:https://lfcngirard.com/events/living-faith-kids/2026-10-28
END:VEVENT
END:VCALENDAR
