BEGIN:VCALENDAR
VERSION:2.0
PRODID:icalendar-ruby
CALSCALE:GREGORIAN
METHOD:PUBLISH
BEGIN:VEVENT
DTSTAMP:20260420T084315Z
UID:20-1153197@livingfaithgirard.net
DTSTART:20261021T233000Z
DTEND:20261022T010000Z
CLASS:PUBLIC
CREATED:20260420T012146
DESCRIPTION:
LAST-MODIFIED:20260420T012146
LOCATION:Multi-purpose Room
SUMMARY:Living Faith Kids
URL;VALUE=URI:https://lfcngirard.com/events/living-faith-kids/2026-10-21
END:VEVENT
END:VCALENDAR
