BEGIN:VCALENDAR
VERSION:2.0
PRODID:icalendar-ruby
CALSCALE:GREGORIAN
METHOD:PUBLISH
BEGIN:VEVENT
DTSTAMP:20260420T071438Z
UID:20-1153196@livingfaithgirard.net
DTSTART:20261014T233000Z
DTEND:20261015T010000Z
CLASS:PUBLIC
CREATED:20260420T012146
DESCRIPTION:
LAST-MODIFIED:20260420T012146
LOCATION:Multi-purpose Room
SUMMARY:Living Faith Kids
URL;VALUE=URI:https://lfcngirard.com/events/living-faith-kids/2026-10-14
END:VEVENT
END:VCALENDAR
