BEGIN:VCALENDAR
VERSION:2.0
PRODID:icalendar-ruby
CALSCALE:GREGORIAN
METHOD:PUBLISH
BEGIN:VEVENT
DTSTAMP:20260420T053941Z
UID:20-1152433@livingfaithgirard.net
DTSTART:20261007T233000Z
DTEND:20261008T010000Z
CLASS:PUBLIC
CREATED:20260419T214453
DESCRIPTION:
LAST-MODIFIED:20260419T214453
LOCATION:Multi-purpose Room
SUMMARY:Living Faith Kids
URL;VALUE=URI:https://lfcngirard.com/events/living-faith-kids/2026-10-07
END:VEVENT
END:VCALENDAR
